BEGIN:VCALENDAR
VERSION:2.0
PRODID:-//Divina Boutique Hotel - ECPv6.2.8.1//NONSGML v1.0//EN
CALSCALE:GREGORIAN
METHOD:PUBLISH
X-WR-CALNAME:Divina Boutique Hotel
X-ORIGINAL-URL:https://divinahotelharkany.hu
X-WR-CALDESC:Events for Divina Boutique Hotel
REFRESH-INTERVAL;VALUE=DURATION:PT1H
X-Robots-Tag:noindex
X-PUBLISHED-TTL:PT1H
BEGIN:VTIMEZONE
TZID:UTC
BEGIN:STANDARD
TZOFFSETFROM:+0000
TZOFFSETTO:+0000
TZNAME:UTC
DTSTART:20260101T000000
END:STANDARD
END:VTIMEZONE
BEGIN:VEVENT
DTSTART;TZID=UTC:20260502T200000
DTEND;TZID=UTC:20260502T200000
DTSTAMP:20260422T141731
CREATED:20260421T105349Z
LAST-MODIFIED:20260421T105431Z
UID:34036-1777752000-1777752000@divinahotelharkany.hu
SUMMARY:Éjszakai Ritmusok Pixával
DESCRIPTION:Éjszakai fürdőzés a Harkányi Gyógyfürdőben 2026.05.02.-án este! \nÉjszakai ritmusok\, tánc\, pihenés\, szaunavilág és elmaradhatatlan koktélok várják az érdeklődőket a Harka vízivilág-ban. A hangulatért felelősök az estére Pixa és Dj. Duly & Dj. BaRa. \nPixa egy ismert magyar DJ és zenei producer\, aki főleg a bulizós\, elektronikus és popos hangzásáról ismert. Rendszeresen fellép klubokban és fesztiválokon\, és több népszerű remixet\, illetve saját számot is készített. Zenéje elsősorban a fiatal közönséget célozza\, energikus és könnyen befogadható stílusban. \nÉjszakai Ritmusok Pixával\nJegyek és belépés:\n\nBelépő 4500/fő\nBe- és kilépés csak a főbejáraton\nA fürdőbelépővel ingyenesen látogatható\, ha aznap nem hagyták el a területet\nKapuzárás 23:00\nOnline jegyvásárlás
URL:https://divinahotelharkany.hu/esemenyek/ejszakai-ritmusok-pixaval-divinahotelharkany/
LOCATION:Harkányi Gyógy- és Strandfürdő\, Kossuth Lajos u. 7.\, Harkány\, Baranya\, 7815\, Magyarország
ATTACH;FMTTYPE=image/jpeg:https://divinahotelharkany.hu/wp-content/uploads/2026/04/643461989_1316375853857377_408391108067939508_n.jpg
ORGANIZER;CN="Hark%C3%A1nyi Gy%C3%B3gy- %C3%A9s Strandf%C3%BCrd%C5%91":MAILTO:info@harkanyfurdo.hu
END:VEVENT
END:VCALENDAR