BEGIN:VCALENDAR
VERSION:2.0
PRODID:-//Divina Boutique Hotel - ECPv6.2.8.1//NONSGML v1.0//EN
CALSCALE:GREGORIAN
METHOD:PUBLISH
X-ORIGINAL-URL:https://divinahotelharkany.hu
X-WR-CALDESC:Events for Divina Boutique Hotel
REFRESH-INTERVAL;VALUE=DURATION:PT1H
X-Robots-Tag:noindex
X-PUBLISHED-TTL:PT1H
BEGIN:VTIMEZONE
TZID:UTC
BEGIN:STANDARD
TZOFFSETFROM:+0000
TZOFFSETTO:+0000
TZNAME:UTC
DTSTART:20260101T000000
END:STANDARD
END:VTIMEZONE
BEGIN:VEVENT
DTSTART;TZID=UTC:20260220T170000
DTEND;TZID=UTC:20260220T190000
DTSTAMP:20260424T233800
CREATED:20260216T172857Z
LAST-MODIFIED:20260216T173428Z
UID:33657-1771606800-1771614000@divinahotelharkany.hu
SUMMARY:Festménykiállítás 🎨 Siklós
DESCRIPTION:Festménykiállítás Siklóson – Gátfalvi Dani Mária műveiben a virág-csendéletek\, portrék\, emberábrázolás és a víz\, valamint a tájképek kapják a fő hangsúlyt. Most Mária „Színek Játéka” című festménykiállítására invitáljuk Önöket\, mely várhatóan méltóképp reprezentálja majd a művész életútját és legfrissebb alkotásait is. \nIdőpont: 2026. február 20. 17 óra \nHelyszín: Siklós\, Örsi Ferenc Művelődési Központ \nMegnyitót tart: Riegl Gábor polgármester \nKöszöntő: Dr. Tóth Szilvia \nKözreműködnek: \n\nKovács Antónia\nCzégény Eszter\nUjvári Cseh Dóra\nBartalovics Zoltán\n\nGátfalvi Dani Mária – kiállítás\, Siklós\, 2026.02.20.
URL:https://divinahotelharkany.hu/esemenyek/festmenykiallitas-siklos-20260220-divinahotelharkany/
LOCATION:Siklós\, Művelődési Ház\, Kossuth tér 15.\, Siklós\, Baranya\, 7800\, Magyarország
ATTACH;FMTTYPE=image/jpeg:https://divinahotelharkany.hu/wp-content/uploads/2026/02/gatfalvi_dani_maria_2026_kiallitas_Siklos.jpg
ORGANIZER;CN="Sikl%C3%B3s V%C3%A1ros %C3%96nkorm%C3%A1nyzata":MAILTO:varoshaza@siklos.hu
END:VEVENT
END:VCALENDAR