BEGIN:VCALENDAR
VERSION:2.0
PRODID:-//Divina Boutique Hotel - ECPv6.2.8.1//NONSGML v1.0//EN
CALSCALE:GREGORIAN
METHOD:PUBLISH
X-ORIGINAL-URL:https://divinahotelharkany.hu
X-WR-CALDESC:Events for Divina Boutique Hotel
REFRESH-INTERVAL;VALUE=DURATION:PT1H
X-Robots-Tag:noindex
X-PUBLISHED-TTL:PT1H
BEGIN:VTIMEZONE
TZID:UTC
BEGIN:STANDARD
TZOFFSETFROM:+0000
TZOFFSETTO:+0000
TZNAME:UTC
DTSTART:20260101T000000
END:STANDARD
END:VTIMEZONE
BEGIN:VEVENT
DTSTART;TZID=UTC:20260307T160000
DTEND;TZID=UTC:20260307T170000
DTSTAMP:20260424T170935
CREATED:20260303T112152Z
LAST-MODIFIED:20260303T112223Z
UID:33738-1772899200-1772902800@divinahotelharkany.hu
SUMMARY:Csuja Imre előadás Beremenden
DESCRIPTION:Csuja Imre az ország legdélibb településére\, Beremendre látogat 2026.03.07-én – 16 órától jön az „Imi\, mondj egy verset!”\, a művész verses estje. \nJászai Mari-díjas\, Érdemes és Kiváló Művész\, a kortárs magyar színház- és filmművészet egyik legmeghatározóbb\, legnépszerűbb alakja. \nPályafutása során kiemelkedő drámai és komikus szerepek sorát játszotta el színpadon (jelenleg is az Örkény István Színház tagja)\, ám országos ismertséget elsősorban kultikus filmes és televíziós karaktereivel szerzett: ő az Üvegtigris filmek felejthetetlen Csokija – aki végigmegy a 66-os úton –  és A mi kis falunk polgármestere is. Összetéveszthetetlen orgánumát generációk zárták a szívükbe legendás szinkronszerepei (pl. Egy rém rendes család\, Torrente) révén. \nSzínészi játékát a zseniális humor\, a természetesség és a mély drámai erő egyedülálló ötvözete jellemzi\, ám mindezt most versek formájában adja át a közönségnek Beremenden. \n \nHelyszín: Beremend\, Rendezvényterem \nRegisztráció: (+36 30) 400 8393\, Juhász Anett
URL:https://divinahotelharkany.hu/esemenyek/csuja-imre-eloadas-beremenden-20260307-divinahotelharkany/
LOCATION:Beremend\, Rendezvényterem\, Petőfi u. 7.\, Beremend\, Baranya\, 7827\, Magyarország
ATTACH;FMTTYPE=image/jpeg:https://divinahotelharkany.hu/wp-content/uploads/2026/03/csuja_imre_beremend_eloadas_20260307.jpg
END:VEVENT
END:VCALENDAR