BEGIN:VCALENDAR
VERSION:2.0
PRODID:-//Divina Boutique Hotel - ECPv6.2.8.1//NONSGML v1.0//EN
CALSCALE:GREGORIAN
METHOD:PUBLISH
X-ORIGINAL-URL:https://divinahotelharkany.hu
X-WR-CALDESC:Events for Divina Boutique Hotel
REFRESH-INTERVAL;VALUE=DURATION:PT1H
X-Robots-Tag:noindex
X-PUBLISHED-TTL:PT1H
BEGIN:VTIMEZONE
TZID:UTC
BEGIN:STANDARD
TZOFFSETFROM:+0000
TZOFFSETTO:+0000
TZNAME:UTC
DTSTART:20260101T000000
END:STANDARD
END:VTIMEZONE
BEGIN:VEVENT
DTSTART;TZID=UTC:20260425T170000
DTEND;TZID=UTC:20260425T200000
DTSTAMP:20260421T160501
CREATED:20260421T083446Z
LAST-MODIFIED:20260421T083543Z
UID:34021-1777136400-1777147200@divinahotelharkany.hu
SUMMARY:Karády Katalin est Siklóson 🎶🎵
DESCRIPTION:Karády Katalin esttel készül a siklósi Örsi Ferenc Művelődési Központ 2026.04.25-én szombaton 17 órától. \nKarády Katalin élete röviden\nKarády Katalin a 20. század közepének legrejtélyesebb és legikonikusabb magyar színésznője\, az első valódi hazai femme fatale. Karrierje a Halálos tavasz című filmmel indult 1939-ben\, mély\, búgó hangjával és távolságtartó\, elegáns stílusával pillanatok alatt az ország legsikeresebb színésznőjévé és énekesévé vált. \nÉlete azonban korántsem volt olyan csillogó\, mint a filmvásznon.  A második világháború alatt üldözötteket mentett\, amiért a Gestapo bebörtönözte és megkínozta – önfeláldozó tettéért kséőbb a Világ Igaza kitüntetést is megkapta. A kommunista rendszer ellehetetlenítette\, ezért 1951-ben elhagyta az országot. Előbb Brazíliában\, majd New Yorkban élt\, ahol kalapszalont nyitott\, és teljesen visszavonult a nyilvánosságtól. \n„Nem az a fontos\, hogy mi van a szívedben\, hanem az\, amit a szemeddel üzensz.” \nA 10 legsikeresebb dal Karádytól\nFigyelem\, a lista kimondottan szubjektív és csak szállodánk véleményét tükrözi. 🙂 A szerencsésebbeknek talán bakelit- vagy gramofon lemezen is meglehetnek ezek az ikonikus Karády énekek. Íme: \n\nHamvadó cigarettavég – a legikonikusabb dala\, a várakozás és csalódás himnusza.\nMindig az a perc a legszebb perc – a Halálos tavasz című film egyik kulcsdala.\nEz lett a vesztem – szintén a Halálos tavasz betétdala\, a végzet asszonya stílus alapköve.\nGyűlölöm a vadvirágos rétet – Polgár Tibor szerzeménye\, a fájdalmas elvágyódás dala.\nÉn nem tudom\, mit hoz a holnap – Karády tipikus\, kissé borongós\, mégis reményteli stílusában.\nValahol Oroszországban – a háborús évek egyik legmegrendítőbb slágere.\nEzt a földet választottam – hazaszeretetéről és hűségéről tanúskodó dal.\nSajnos szeretem – a reménytelen szerelem klasszikus megfogalmazása.\nVége már – a szakítás és az elengedés melankolikus dala.\nA szívemben bomba van – egy tempósabb\, fülbemászóbb darab a repertoárjából.\n\n \nKarády est Siklóson\nSzerző: Lengyel Ferenc \nMindig az a perc… „Karády kalapja” – Jazz story \nElőadja: Pataki Szilvia \n Zongorán kísér: Benedekfi Tünde \nIdőpont: 2026. ápr. 25. szombat | 17:00 \nHelyszín: Örsi Ferenc Művelődési Központ\, Siklós\, Kossuth tér 15. \nAz esemény a Déryné program keretében valósul meg. \nAz előadás ingyenes!
URL:https://divinahotelharkany.hu/esemenyek/karady-katalin-est-sikloson-20260425-divinahotelharkany/
LOCATION:Siklós\, Művelődési Ház\, Kossuth tér 15.\, Siklós\, Baranya\, 7800\, Magyarország
ATTACH;FMTTYPE=image/jpeg:https://divinahotelharkany.hu/wp-content/uploads/2026/04/mindig_az_a_perc_karady_est_siklos_20260425.jpg
ORGANIZER;CN="Sikl%C3%B3s V%C3%A1ros %C3%96nkorm%C3%A1nyzata":MAILTO:varoshaza@siklos.hu
END:VEVENT
END:VCALENDAR