BEGIN:VCALENDAR
VERSION:2.0
PRODID:-//Divina Boutique Hotel - ECPv6.2.8.1//NONSGML v1.0//EN
CALSCALE:GREGORIAN
METHOD:PUBLISH
X-WR-CALNAME:Divina Boutique Hotel
X-ORIGINAL-URL:https://divinahotelharkany.hu
X-WR-CALDESC:Events for Divina Boutique Hotel
REFRESH-INTERVAL;VALUE=DURATION:PT1H
X-Robots-Tag:noindex
X-PUBLISHED-TTL:PT1H
BEGIN:VTIMEZONE
TZID:UTC
BEGIN:STANDARD
TZOFFSETFROM:+0000
TZOFFSETTO:+0000
TZNAME:UTC
DTSTART:20260101T000000
END:STANDARD
END:VTIMEZONE
BEGIN:VEVENT
DTSTART;TZID=UTC:20260322T090000
DTEND;TZID=UTC:20260322T160000
DTSTAMP:20260424T155226
CREATED:20260301T120222Z
LAST-MODIFIED:20260301T120744Z
UID:33722-1774170000-1774195200@divinahotelharkany.hu
SUMMARY:Önismereti lovastréning 🐎 Pécsváradon
DESCRIPTION:Önismereti lovastréning 🐎 állatasszisztált önmegismerési programlehetőség Pécsváradon\, a Kunfakó és Konyik tenyészetnél\, a Kishosszúrét Vendégháznál 2026.03.22-én 09:00 – 16:00 között! \nA lovak őszinte\, tiszta jelenléte segít rálátni belső működéseinkre\, elakadásainkra és erőforrásainkra – erre a gondolatra teszi fel önismereti\, segítő jellegű programsorozatát Scholtz Péter és Scholtzné Nagy Szidónia. Péter és Szidi megannyi területen igyekszik hangsúlyozni a megismerés fontosságát\, amely többek között a párkapcsolatainkra\, mindennapjainkra\, általános életminőségünkre is nagyon jelentős hatással bír. \nA lovastréning első idei állomása Kishosszúrét\, az alkalom témája pedig a TŰZPRÓBA! 🔥🔥🔥 \n \nMit takar pontosan az állatasszisztált lovastréning?\nNem mást\, mint az önmagunkra hagyatkozást és az elengedés fejlesztését. \nMindennapjainkban gyakran támaszkodunk külső visszajelzésekre\, elvárásokra\, mások megerősítésére. Sokszor kapaszkodunk olyan helyzetekbe\, kapcsolatokba\, szerepekbe\, amelyek már nem szolgálnak minket – csak mert megszoktuk őket\, vagy félünk az elengedéstől. \nA tűzpróba ezekkel a belső mintákkal dolgozik: \n\nhogyan tudunk biztonságot találni önmagunkban\,\nmennyire merünk döntéseket hozni külső kapaszkodók nélkül\,\nképesek vagyunk-e elengedni azt\, ami már nem visz előre.\n\nA lovak ebben különleges társak. Nem értékelnek\, nem címkéznek\, nem akarnak „jobbak” lenni nálunk – csak reagálnak arra\, ami bennünk van. Így segítenek felismerni\, hol szorítunk túl erősen\, hol félünk elengedni\, és hol lenne ideje bízni önmagunkban. \nHogyan dolgozunk a lovastréningen? \n\negyéni folyamatokban\,\nkiscsoportos gyakorlatokban\,\nés természetesen a lovakkal való kapcsolódásban.\n\nA programon való részvételhez lovastudás nem szükséges. Az állatasszisztált lovastréning nem a lovaglásról szól\, hanem a lovak jelenlétében megélt tapasztalatokról\, érintkezésről\, kapcsolódásról és az ebből születő felismerésekről. \nÖnismereti lovastréning – egyéb információk\nTrénerek: \n\nKakas Dorottya – ló asszisztált tréner\nScholtz Péter – transzgenerációs epigenetikus kineziológus tanácsadó\n\nEgyéb tudnivalók: \n\nA program minimum 6 fő esetén indul.\nMaximális létszám: 16 fő – érdemes időben jelentkezni!\nRészvételi díj: 25.000 Ft / nap\nA tréning önellátó (ásványvizet\, háziszörpöt és pogácsát biztosítunk).\nJelentkezés és további információ: scholtz.nagy@gmail.com
URL:https://divinahotelharkany.hu/esemenyek/onismereti-lovastrening-20260322-divinahotelharkany/
LOCATION:Pécsvárad\, Kishosszúrét\, Kishosszúrét 0235/1\, Pécsvárad\, Baranya\, 7720\, Hungary
ATTACH;FMTTYPE=image/jpeg:https://divinahotelharkany.hu/wp-content/uploads/2026/03/allatasszisztalt_lovastrening_scholtz_peter_pecsvarad_20260322.jpg
ORGANIZER;CN="Scholtz P%C3%A9ter":MAILTO:spliminalconsulting@gmail.com
END:VEVENT
END:VCALENDAR