BEGIN:VCALENDAR
VERSION:2.0
PRODID:-//Divina Boutique Hotel - ECPv6.2.8.1//NONSGML v1.0//EN
CALSCALE:GREGORIAN
METHOD:PUBLISH
X-WR-CALNAME:Divina Boutique Hotel
X-ORIGINAL-URL:https://divinahotelharkany.hu
X-WR-CALDESC:Events for Divina Boutique Hotel
REFRESH-INTERVAL;VALUE=DURATION:PT1H
X-Robots-Tag:noindex
X-PUBLISHED-TTL:PT1H
BEGIN:VTIMEZONE
TZID:UTC
BEGIN:STANDARD
TZOFFSETFROM:+0000
TZOFFSETTO:+0000
TZNAME:UTC
DTSTART:20260101T000000
END:STANDARD
END:VTIMEZONE
BEGIN:VEVENT
DTSTART;TZID=UTC:20260418T080000
DTEND;TZID=UTC:20260418T170000
DTSTAMP:20260424T165456
CREATED:20260216T211704Z
LAST-MODIFIED:20260217T061717Z
UID:33665-1776499200-1776531600@divinahotelharkany.hu
SUMMARY:Borpiknik Villány 🍷 2026
DESCRIPTION:Borpiknik Villányban – a fogalom\, amiről sokaknak Magyarország egyik leghíresebb borvidéke\, Villány neve ugorhat be. \nNem véletlenül\, ugyanis a Villányi Borvidék szervezésében egy igazán egyedi programlehetőséget kapunk: 2026.04.18-án különböző állomásokon járhatjuk be a tájegység legszebb dűlőit\, természetközelben kortyolhatjuk a legjobb rozékat\, vöröseket is. Minőségi villányi borok és a játékokon való részvétel értékes nyereményekért\, hasonlóan pl. a 2024-es vagy 2025-ös eseményhez! \nA borpiknik részletei még nem ismertek – addig is tallózzunk a tavalyi (2025. évi) programokból! \nRegisztráció: Villány\, Rendezvénytér 12:45-13:30 (Villány\, Ady Endre fasor\, a Csányi Pincészettel szemben) \nTavaszi Borpiknik választható útvonalai (helyek függvényében): \n\nútvonal: Sauska – Blum Pince Villánykövesd – Vaj Bisztró és Vendégház\nútvonal: Bock Jammertal Családi Kispince – Mokos Pincészet – Dráva Hotel Thermal Resort\nútvonal: Gere Attila Pincészete – Vylyan Szőlőbirtok és Pincészet – Agancsos Panzió\nállomás (after party) mind a három útvonalon: Günzer Tamás Pincészete (Grandior BorBistro)\n\nTavaszi borpiknik Villány – 2026.04.18.\nTavaszi Borpiknik Villány – 1. útvonal\n\n1. állomás 13:45-15:15 – Sauska\n\nMini üdvözlő falatok: stifolderes minikifli\, pogácsa\nBorkóstoló:\n\nSauska Extra Dry\nSauska Furmint 2023\nSauska Rosé 2024\nSauska Cuvée 13\n\n\nRosé fröccs ivó váltófutó bajnokság a szőlősorok között – Pezsgő nyereménnyel\n\n\n2. állomás 15:30-17:00 – Blum Pince Villánykövesd\n\nPincesétával egybekötött borkóstoló a több mint 200 éves pincerészben\n\nRosé Cuvée 2024\nCabernet Sauvignon 2020\n\n\nDesszert: házi rétes + Ottonel Muskotály 2023\n\n\n3. állomás 17:15-18:45 – Vaj Bisztró és Vendégház\n\nBorkóstoló:\n\nRiczu Irsai Olivér\nMaczkó Rosé\nKapronczai Merlot\n\n\nKvíz a borvidékről\nMENÜ: Cukkinis-gombás rizottó\, bazsalikomos zöldfűszeres csirkemell\, házi morzsában.\n\n\n4. állomás 19:00-től – Günzer Tamás Pincészete (Grandior BorBistro)\n\nKöszöntő fehér bor: 1 dl Mont Blanc\, mini szendvics válogatás\nAFTER PARTY: Saxodisc\n\n\n\nBorpiknik – 2. útvonal\n\n1. állomás 13:45-15:15 – Bock Jammertal Családi Kispince\n\nBorkóstoló:\n\nFanni gyöngyözőbor\nRosé Cuvée\nÓbor – Bock Cuvée 99’\n\n\nPincelátogatás\nPadlizsánkrémes\, csirkemelles mini szendvics\nMini kvíz\n\n\n2. állomás 15:30-17:00 – Mokos Pincészet\n\nBorkóstoló:\n\n„I” Cuvée 2024\nVillányi Rozé Cuvée 2024\nRedY 2023\nPincelátogatás\nDesszert: házi rétes + Erdei gyümölcsbor\n\n\nSzórakoztató játékok\n\n\n3. állomás 17:15-18:45 – Dráva Hotel Thermal Resort\n\nA Vylyan Pincészet borainak a kóstolója:\n\nBoszorkány\nKakas\nMacska\n\n\nA Harka legenda rövid zenés előadása\nHarkányi gyógyvíz kóstoló\nKvíz a legendából\nMENÜ: Pincepörkölt\, kenyérrel és házi hordós savanyúság\n\n\n4. állomás 19:00-től – Günzer Tamás Pincészete (Grandior BorBistro)\n\nKöszöntő fehér bor: 1 dl Mont Blanc\, mini szendvics válogatás\nAFTER PARTY: Saxodisc\n\n\n\nTavaszi Borpiknik – 3. útvonal\n\n1. állomás 13:45-15:15 – Gere Attila Pincészete\n\nBorkóstoló:\n\nFehér Frici 2024\nMerlot 2019\nVillányi Franc Csillagvölgy 2021\n\n\nPincelátogatás\nMini szendvics válogatás (stifolderes\, sonkás\, sajtkrémes – húsmentes\, vegán krémes)\nKvíz\n\n\n2. állomás 15:30-17:00 – Vylyan Szőlőbirtok és Pincészet\n\nBorkóstoló (0\,5 dl):\n\nKszí 2024\nHЁRKA Chardonnay 2023\nVörös Variáció 2021\n\n\nDesszert: rétes\nMeglepetés játék\nVylyan kvíz – nyereményekkel\nZene: DJ S – a főborász szüreti mixe\n\n\n3. állomás 17:15-18:45 – Agancsos Panzió\n\nBorkóstoló:\n\nAgancsos Rozé\nAgancsos Portugieser\nAgancsos Falka\n\n\nHordó abroncs gurító verseny\nMENÜ: Csülökpörkölt körettel\, savanyúsággal\n\n\n4. állomás 19:00-től – Günzer Tamás Pincészete (Grandior BorBistro)\n\nKöszöntő fehér bor: 1 dl Mont Blanc\, mini szendvics válogatás\nAFTER PARTY: Saxodisc\n\n\n\nBorpiknik és Harkány…?\nAmennyiben Önnek a wellness a mindene\, érdemes az eseményt összekötni egy harkányi kiruccanással is\, amihez a Divina Boutique Hotelben foglalásához a gyógyfürdő belépőket elővételben is megvásárolhatja szállodánk foglalási felületén. Csak jelölje ki az Önnek tetsző szobát\, válassza kiegészítő szolgáltatásként a kívánt mennyiségben a gyógyfürdő belépő opciót és irány a Harkányi Gyógyfürdő – valamint a borpiknik Villány! \nhttps://divinahotelharkany.hu/szobaink-arak/
URL:https://divinahotelharkany.hu/esemenyek/borpiknik-villany-20260418-divinahotelharkany/
LOCATION:Villány\, rendezvénytér\, Ady Endre fasor\, Villány\, Baranya\, 7773\, Magyarország
ATTACH;FMTTYPE=image/jpeg:https://divinahotelharkany.hu/wp-content/uploads/2026/02/villany_tavaszi_borpiknik_poster_20241.jpg
ORGANIZER;CN="Vill%C3%A1nyi Borvid%C3%A9k":MAILTO:szervezes@villanyiborvidek.hu
END:VEVENT
END:VCALENDAR