BEGIN:VCALENDAR
VERSION:2.0
PRODID:-//Divina Boutique Hotel - ECPv6.2.8.1//NONSGML v1.0//EN
CALSCALE:GREGORIAN
METHOD:PUBLISH
X-WR-CALNAME:Divina Boutique Hotel
X-ORIGINAL-URL:https://divinahotelharkany.hu
X-WR-CALDESC:Events for Divina Boutique Hotel
REFRESH-INTERVAL;VALUE=DURATION:PT1H
X-Robots-Tag:noindex
X-PUBLISHED-TTL:PT1H
BEGIN:VTIMEZONE
TZID:UTC
BEGIN:STANDARD
TZOFFSETFROM:+0000
TZOFFSETTO:+0000
TZNAME:UTC
DTSTART:20260101T000000
END:STANDARD
END:VTIMEZONE
BEGIN:VEVENT
DTSTART;TZID=UTC:20260711T090000
DTEND;TZID=UTC:20260711T170000
DTSTAMP:20260422T173820
CREATED:20260422T114655Z
LAST-MODIFIED:20260422T114737Z
UID:34080-1783760400-1783789200@divinahotelharkany.hu
SUMMARY:FutaVillány - FutaBor 2026
DESCRIPTION:FutaVillány – FutaBor idén is megrendezésre kerül 2026 július 11.-én\, előzetes nevezést igényel. Ne hagyják ki ezt az életreszóló élményt! \nAhogy minden évben\, idén is a cél és a rajt is a Villányi Rendezvénytér\, a pálya pedig a Villányi szőlőhegy. \nElőzetes regisztráció: www.futafold.se/futavillany-futabor-8-0-nevezes \nTovábbi részletek: www.futafold.se/futavillany-futabor-8-0/ \nÉs végezetül de nem utolsó sorban a tavalyi kedvcsináló kisfilm:
URL:https://divinahotelharkany.hu/esemenyek/futavillany-futabor-2026-divinahotelharkany/
LOCATION:Villány\, rendezvénytér\, Ady Endre fasor\, Villány\, Baranya\, 7773\, Magyarország
ATTACH;FMTTYPE=image/jpeg:https://divinahotelharkany.hu/wp-content/uploads/2026/04/645743844_1413800163875218_326686154582578710_n.jpg
ORGANIZER;CN="FutaF%C3%B6ld":MAILTO:futafold@gmail.com
END:VEVENT
END:VCALENDAR