BEGIN:VCALENDAR
VERSION:2.0
PRODID:-//Divina Boutique Hotel - ECPv6.2.8.1//NONSGML v1.0//EN
CALSCALE:GREGORIAN
METHOD:PUBLISH
X-WR-CALNAME:Divina Boutique Hotel
X-ORIGINAL-URL:https://divinahotelharkany.hu
X-WR-CALDESC:Events for Divina Boutique Hotel
REFRESH-INTERVAL;VALUE=DURATION:PT1H
X-Robots-Tag:noindex
X-PUBLISHED-TTL:PT1H
BEGIN:VTIMEZONE
TZID:UTC
BEGIN:STANDARD
TZOFFSETFROM:+0000
TZOFFSETTO:+0000
TZNAME:UTC
DTSTART:20260101T000000
END:STANDARD
END:VTIMEZONE
BEGIN:VEVENT
DTSTART;TZID=UTC:20260220T160000
DTEND;TZID=UTC:20260220T190000
DTSTAMP:20260425T010432
CREATED:20260215T203246Z
LAST-MODIFIED:20260215T205630Z
UID:33646-1771603200-1771614000@divinahotelharkany.hu
SUMMARY:Télbúcsúztató Harkányban 2026
DESCRIPTION:Télbúcsúztató Harkányban – amennyiben épp városunkban jár 2026. február 20-án délután és kedvet tart egy szép télbúcsúztató előadás megtekintésére az elmúlt évek gyakorlatához hasonlóan\, kérjük látogassa meg a Téltemető rendezvényt\, amelyen a lelkes harkányi óvodások műsora mellett máglyagyújtás és további zenés – táncos programok is helyet kapnak. \nA farsangi időszakban egyébiránt országszerte tartanak téltemető rendezvényeket\, ahol szalmabáb elégetésével szimbolizálják a tél elmúlását. A falusi hagyományokban gyakran szerepelt a kiszebáb égetése\, amely a rossz idő és a betegségek elűzését jelképezte. Ezek a vidám\, színes események a tavasz közeledtét ünneplik\, és a közösségek számára fontos találkozási alkalmak is egyben. \nProgramok: \n\n16:00 – a rendezvény megnyitása\n16:30 – a Harka Dalkör műsora\n16:40 – önkormányzati köszöntő\n16:45 – máglyagyújtás\, a Harkányi Óvoda hagyományőrző műsora\n17:15 – körtánc\, a Harka Táncegyüttes műsora\n17:30 – a Harkányi Menyecskék műsora\n17:40 – Harkányi Hagyományőrző csoport műsora\n18:00 – Harkányi Horvát Nemzetiségi Énekkar\n18:25 – Harkányi Német Nemzetiségi Önkormányzat Singvögel Kórusának műsora\n19:00 – a rendezvény zárása\n\nA rendezvényen helyi kézművesek\, termelők várnak minden kedves látogatót! \nMeleg teával\, forralt borral\, szörpökkel és a sütéshez szükséges szalonnával\, valamint kenyérrel várjuk az érdeklődőket! Szalonnasütéshez akinek lehetősége van\, saját nyársat hozzon. A Szervező a program változtatás jogát fenntartja. A rendezvény alatt fényképek készülhetnek\, amelyek további felhasználásra kerülhetnek a Kiss József Könyvtár\, Művelődési Ház és Sportcsarnok közösségi média felületein! \nJelige: szalonnasütés a parázson\, tea és forralt bor!
URL:https://divinahotelharkany.hu/esemenyek/telbucsuztato-harkanyban-20260220-divinahotelharkany/
LOCATION:Művelődési Ház\, Harkány\, Kossuth Lajos utca 2.\, Harkány\, Baranya\, 7815\, Magyarország
ATTACH;FMTTYPE=image/jpeg:https://divinahotelharkany.hu/wp-content/uploads/2026/02/telbucsuztato_harkany_2026.jpg
ORGANIZER;CN="Hark%C3%A1ny V%C3%A1ros %C3%96nkorm%C3%A1nyzata":MAILTO:titkarsag@harkany.hu
END:VEVENT
END:VCALENDAR